BEGIN:VCALENDAR
VERSION:2.0
PRODID:-//ChamberMaster//Event Calendar 2.0//EN
METHOD:PUBLISH
X-PUBLISHED-TTL:P3D
REFRESH-INTERVAL:P3D
CALSCALE:GREGORIAN
BEGIN:VEVENT
DTSTART:20190509T143000Z
DTEND:20190509T163000Z
X-MICROSOFT-CDO-ALLDAYEVENT:FALSE
SUMMARY:Lunch N Learn
DESCRIPTION:Lunch N Learn
X-ALT-DESC;FMTTYPE=text/html:Lunch N Learn
LOCATION:Henry James Memorial School 155 Firetown Road\, Simsbury
UID:e.3366.116
SEQUENCE:3
DTSTAMP:20260424T153608Z
URL:http://simsburycocct.chambermaster.com/events/details/lunch-n-learn-116
END:VEVENT

END:VCALENDAR
